BEGIN:VCALENDAR
VERSION:2.0
PRODID:-//NADI Kampung Pauh, Simpang Empat - ECPv6.15.13.1//NONSGML v1.0//EN
CALSCALE:GREGORIAN
METHOD:PUBLISH
X-WR-CALNAME:NADI Kampung Pauh, Simpang Empat
X-ORIGINAL-URL:https://kgpauh.nadi.my
X-WR-CALDESC:Events for NADI Kampung Pauh, Simpang Empat
REFRESH-INTERVAL;VALUE=DURATION:PT1H
X-Robots-Tag:noindex
X-PUBLISHED-TTL:PT1H
BEGIN:VTIMEZONE
TZID:UTC
BEGIN:STANDARD
TZOFFSETFROM:+0000
TZOFFSETTO:+0000
TZNAME:UTC
DTSTART:20250101T000000
END:STANDARD
END:VTIMEZONE
BEGIN:VEVENT
DTSTART;TZID=UTC:20260225T030000
DTEND;TZID=UTC:20260225T160000
DTSTAMP:20260419T191946
CREATED:20260214T083005Z
LAST-MODIFIED:20260214T083005Z
UID:2664-1771988400-1772035200@kgpauh.nadi.my
SUMMARY:SIRI CYBER HIGIENE: BULAN KESEDARAN PHISHING DAN SCAM
DESCRIPTION:
URL:https://kgpauh.nadi.my/event/siri-cyber-higiene-bulan-kesedaran-phishing-dan-scam/
END:VEVENT
END:VCALENDAR