BEGIN:VCALENDAR
VERSION:2.0
PRODID:-//NADI Kampung Pauh, Simpang Empat - ECPv6.15.13.1//NONSGML v1.0//EN
CALSCALE:GREGORIAN
METHOD:PUBLISH
X-WR-CALNAME:NADI Kampung Pauh, Simpang Empat
X-ORIGINAL-URL:https://kgpauh.nadi.my
X-WR-CALDESC:Events for NADI Kampung Pauh, Simpang Empat
REFRESH-INTERVAL;VALUE=DURATION:PT1H
X-Robots-Tag:noindex
X-PUBLISHED-TTL:PT1H
BEGIN:VTIMEZONE
TZID:UTC
BEGIN:STANDARD
TZOFFSETFROM:+0000
TZOFFSETTO:+0000
TZNAME:UTC
DTSTART:20240101T000000
END:STANDARD
END:VTIMEZONE
BEGIN:VEVENT
DTSTART;TZID=UTC:20250904T093000
DTEND;TZID=UTC:20250904T220000
DTSTAMP:20260419T135838
CREATED:20250830T081147Z
LAST-MODIFIED:20250830T081147Z
UID:1908-1756978200-1757023200@kgpauh.nadi.my
SUMMARY:MAHIR PERTANIAN PINTAR: PENYEDIAAN BAJA AB (A+B)
DESCRIPTION:
URL:https://kgpauh.nadi.my/event/mahir-pertanian-pintar-penyediaan-baja-ab-ab/
END:VEVENT
BEGIN:VEVENT
DTSTART;TZID=UTC:20250904T100000
DTEND;TZID=UTC:20250904T223000
DTSTAMP:20260419T135838
CREATED:20250830T081040Z
LAST-MODIFIED:20250830T081040Z
UID:1906-1756980000-1757025000@kgpauh.nadi.my
SUMMARY:MAHIR MASAK: RESEPI CRAB RANGOON
DESCRIPTION:
URL:https://kgpauh.nadi.my/event/mahir-masak-resepi-crab-rangoon/
END:VEVENT
END:VCALENDAR