BEGIN:VCALENDAR
VERSION:2.0
PRODID:-//NADI Kampung Pauh, Simpang Empat - ECPv6.15.13.1//NONSGML v1.0//EN
CALSCALE:GREGORIAN
METHOD:PUBLISH
X-WR-CALNAME:NADI Kampung Pauh, Simpang Empat
X-ORIGINAL-URL:https://kgpauh.nadi.my
X-WR-CALDESC:Events for NADI Kampung Pauh, Simpang Empat
REFRESH-INTERVAL;VALUE=DURATION:PT1H
X-Robots-Tag:noindex
X-PUBLISHED-TTL:PT1H
BEGIN:VTIMEZONE
TZID:UTC
BEGIN:STANDARD
TZOFFSETFROM:+0000
TZOFFSETTO:+0000
TZNAME:UTC
DTSTART:20240101T000000
END:STANDARD
END:VTIMEZONE
BEGIN:VEVENT
DTSTART;TZID=UTC:20250618T093000
DTEND;TZID=UTC:20250618T120000
DTSTAMP:20260422T120533
CREATED:20250606T080043Z
LAST-MODIFIED:20250606T080043Z
UID:1478-1750239000-1750248000@kgpauh.nadi.my
SUMMARY:NADI KEUSAHAWANAN: EDISI EKSPRESS
DESCRIPTION:
URL:https://kgpauh.nadi.my/event/nadi-keusahawanan-edisi-ekspress-3/
END:VEVENT
BEGIN:VEVENT
DTSTART;TZID=UTC:20250618T143000
DTEND;TZID=UTC:20250618T170000
DTSTAMP:20260422T120533
CREATED:20250606T080109Z
LAST-MODIFIED:20250606T080109Z
UID:1480-1750257000-1750266000@kgpauh.nadi.my
SUMMARY:NADI KEUSAHAWANAN: EDISI EKSPRESS
DESCRIPTION:
URL:https://kgpauh.nadi.my/event/nadi-keusahawanan-edisi-ekspress-4/
END:VEVENT
END:VCALENDAR