BEGIN:VCALENDAR
VERSION:2.0
PRODID:-//NADI Kampung Pauh, Simpang Empat - ECPv6.15.13.1//NONSGML v1.0//EN
CALSCALE:GREGORIAN
METHOD:PUBLISH
X-WR-CALNAME:NADI Kampung Pauh, Simpang Empat
X-ORIGINAL-URL:https://kgpauh.nadi.my
X-WR-CALDESC:Events for NADI Kampung Pauh, Simpang Empat
REFRESH-INTERVAL;VALUE=DURATION:PT1H
X-Robots-Tag:noindex
X-PUBLISHED-TTL:PT1H
BEGIN:VTIMEZONE
TZID:UTC
BEGIN:STANDARD
TZOFFSETFROM:+0000
TZOFFSETTO:+0000
TZNAME:UTC
DTSTART:20240101T000000
END:STANDARD
END:VTIMEZONE
BEGIN:VEVENT
DTSTART;TZID=UTC:20250617T093000
DTEND;TZID=UTC:20250617T120000
DTSTAMP:20260421T225615
CREATED:20250606T075802Z
LAST-MODIFIED:20250606T075927Z
UID:1474-1750152600-1750161600@kgpauh.nadi.my
SUMMARY:NADI KEUSAHAWANAN: EDISI EKSPRESS
DESCRIPTION:
URL:https://kgpauh.nadi.my/event/nadi-keusahawanan-edisi-ekspress/
END:VEVENT
BEGIN:VEVENT
DTSTART;TZID=UTC:20250617T143000
DTEND;TZID=UTC:20250617T170000
DTSTAMP:20260421T225615
CREATED:20250606T080004Z
LAST-MODIFIED:20250606T080004Z
UID:1476-1750170600-1750179600@kgpauh.nadi.my
SUMMARY:NADI KEUSAHAWANAN: EDISI EKSPRESS
DESCRIPTION:
URL:https://kgpauh.nadi.my/event/nadi-keusahawanan-edisi-ekspress-2/
END:VEVENT
END:VCALENDAR