BEGIN:VCALENDAR
VERSION:2.0
PRODID:-//NADI Kampung Pauh, Simpang Empat - ECPv6.15.13.1//NONSGML v1.0//EN
CALSCALE:GREGORIAN
METHOD:PUBLISH
X-WR-CALNAME:NADI Kampung Pauh, Simpang Empat
X-ORIGINAL-URL:https://kgpauh.nadi.my
X-WR-CALDESC:Events for NADI Kampung Pauh, Simpang Empat
REFRESH-INTERVAL;VALUE=DURATION:PT1H
X-Robots-Tag:noindex
X-PUBLISHED-TTL:PT1H
BEGIN:VTIMEZONE
TZID:UTC
BEGIN:STANDARD
TZOFFSETFROM:+0000
TZOFFSETTO:+0000
TZNAME:UTC
DTSTART:20240101T000000
END:STANDARD
END:VTIMEZONE
BEGIN:VEVENT
DTSTART;TZID=UTC:20250614T100000
DTEND;TZID=UTC:20250614T110000
DTSTAMP:20260422T125851
CREATED:20250606T075553Z
LAST-MODIFIED:20250606T075553Z
UID:1472-1749895200-1749898800@kgpauh.nadi.my
SUMMARY:USAHAWAN CILIK (WEBINAR 3: PEMASARAN)
DESCRIPTION:
URL:https://kgpauh.nadi.my/event/usahawan-cilik-webinar-3-pemasaran/
END:VEVENT
END:VCALENDAR