BEGIN:VCALENDAR
VERSION:2.0
PRODID:-//NADI Kampung Pauh, Simpang Empat - ECPv6.15.20//NONSGML v1.0//EN
CALSCALE:GREGORIAN
METHOD:PUBLISH
X-WR-CALNAME:NADI Kampung Pauh, Simpang Empat
X-ORIGINAL-URL:https://kgpauh.nadi.my
X-WR-CALDESC:Events for NADI Kampung Pauh, Simpang Empat
REFRESH-INTERVAL;VALUE=DURATION:PT1H
X-Robots-Tag:noindex
X-PUBLISHED-TTL:PT1H
BEGIN:VTIMEZONE
TZID:UTC
BEGIN:STANDARD
TZOFFSETFROM:+0000
TZOFFSETTO:+0000
TZNAME:UTC
DTSTART:20240101T000000
END:STANDARD
END:VTIMEZONE
BEGIN:VEVENT
DTSTART;TZID=UTC:20250529T100000
DTEND;TZID=UTC:20250529T233000
DTSTAMP:20260424T014724
CREATED:20250524T071441Z
LAST-MODIFIED:20250524T071441Z
UID:1416-1748512800-1748561400@kgpauh.nadi.my
SUMMARY:MAHIR FOTO: SUNTINGAN GAMBAR (VSCO FILTER)
DESCRIPTION:
URL:https://kgpauh.nadi.my/event/mahir-foto-suntingan-gambar-vsco-filter/
END:VEVENT
END:VCALENDAR