BEGIN:VCALENDAR
VERSION:2.0
PRODID:-//NADI Kampung Pauh, Simpang Empat - ECPv6.15.13.1//NONSGML v1.0//EN
CALSCALE:GREGORIAN
METHOD:PUBLISH
X-WR-CALNAME:NADI Kampung Pauh, Simpang Empat
X-ORIGINAL-URL:https://kgpauh.nadi.my
X-WR-CALDESC:Events for NADI Kampung Pauh, Simpang Empat
REFRESH-INTERVAL;VALUE=DURATION:PT1H
X-Robots-Tag:noindex
X-PUBLISHED-TTL:PT1H
BEGIN:VTIMEZONE
TZID:UTC
BEGIN:STANDARD
TZOFFSETFROM:+0000
TZOFFSETTO:+0000
TZNAME:UTC
DTSTART:20240101T000000
END:STANDARD
END:VTIMEZONE
BEGIN:VEVENT
DTSTART;VALUE=DATE:20250517
DTEND;VALUE=DATE:20250518
DTSTAMP:20260423T014033
CREATED:20250516T075005Z
LAST-MODIFIED:20250516T075005Z
UID:1394-1747440000-1747526399@kgpauh.nadi.my
SUMMARY:PERTANDINGAN NADI E-SUKAN PERINGKAT NEGERI PERLIS
DESCRIPTION:Tarikh: 17 Mei 2025 (Sabtu) \nTempat: Uniciti Alam UNIMAP \nMasa: 8.00 pagi
URL:https://kgpauh.nadi.my/event/pertandingan-nadi-e-sukan-peringkat-negeri-perlis/
END:VEVENT
END:VCALENDAR