BEGIN:VCALENDAR
VERSION:2.0
PRODID:-//NADI Kampung Pauh, Simpang Empat - ECPv6.15.13.1//NONSGML v1.0//EN
CALSCALE:GREGORIAN
METHOD:PUBLISH
X-WR-CALNAME:NADI Kampung Pauh, Simpang Empat
X-ORIGINAL-URL:https://kgpauh.nadi.my
X-WR-CALDESC:Events for NADI Kampung Pauh, Simpang Empat
REFRESH-INTERVAL;VALUE=DURATION:PT1H
X-Robots-Tag:noindex
X-PUBLISHED-TTL:PT1H
BEGIN:VTIMEZONE
TZID:UTC
BEGIN:STANDARD
TZOFFSETFROM:+0000
TZOFFSETTO:+0000
TZNAME:UTC
DTSTART:20240101T000000
END:STANDARD
END:VTIMEZONE
BEGIN:VEVENT
DTSTART;TZID=UTC:20250503T143000
DTEND;TZID=UTC:20250503T163000
DTSTAMP:20260423T051551
CREATED:20250502T093901Z
LAST-MODIFIED:20250502T094025Z
UID:1383-1746282600-1746289800@kgpauh.nadi.my
SUMMARY:DILEA: WEBINAR MOTIVASI PELAJAR
DESCRIPTION:Mempelajari hala tuju selepas SPM \nTips Permohonan UPU Online dengan menggunakan Kaedah Pengiraan Merit \n 
URL:https://kgpauh.nadi.my/event/dilea-webinar-motivasi-pelajar/
END:VEVENT
END:VCALENDAR