BEGIN:VCALENDAR
VERSION:2.0
PRODID:-//NADI Kampung Pauh, Simpang Empat - ECPv6.15.20//NONSGML v1.0//EN
CALSCALE:GREGORIAN
METHOD:PUBLISH
X-WR-CALNAME:NADI Kampung Pauh, Simpang Empat
X-ORIGINAL-URL:https://kgpauh.nadi.my
X-WR-CALDESC:Events for NADI Kampung Pauh, Simpang Empat
REFRESH-INTERVAL;VALUE=DURATION:PT1H
X-Robots-Tag:noindex
X-PUBLISHED-TTL:PT1H
BEGIN:VTIMEZONE
TZID:UTC
BEGIN:STANDARD
TZOFFSETFROM:+0000
TZOFFSETTO:+0000
TZNAME:UTC
DTSTART:20240101T000000
END:STANDARD
END:VTIMEZONE
BEGIN:VEVENT
DTSTART;TZID=UTC:20250316T093000
DTEND;TZID=UTC:20250316T140000
DTSTAMP:20260424T071805
CREATED:20250315T073540Z
LAST-MODIFIED:20250315T073540Z
UID:1185-1742117400-1742133600@kgpauh.nadi.my
SUMMARY:SARINGAN MLBB MUSIM 2 2025
DESCRIPTION:
URL:https://kgpauh.nadi.my/event/saringan-mlbb-musim-2-2025/
END:VEVENT
BEGIN:VEVENT
DTSTART;TZID=UTC:20250316T100000
DTEND;TZID=UTC:20250316T120000
DTSTAMP:20260424T071805
CREATED:20250315T073737Z
LAST-MODIFIED:20250315T073737Z
UID:1189-1742119200-1742126400@kgpauh.nadi.my
SUMMARY:NADI X TINY TECHIES (Program Mentor)
DESCRIPTION:
URL:https://kgpauh.nadi.my/event/nadi-x-tiny-techies-program-mentor/
END:VEVENT
END:VCALENDAR